BEGIN:VCALENDAR
VERSION:2.0
PRODID:-//Contratero//ES
CALSCALE:GREGORIAN
METHOD:PUBLISH
BEGIN:VEVENT
UID:CONTR 2020/12113@contratero.es
DTSTAMP:20260424T160004Z
DTSTART:20210215T235959
DTEND:20210216T005959
SUMMARY:Cierre: Realización de los trabajos de campo de la ampliac
DESCRIPTION:Realización de los trabajos de campo de la ampliación de la muestra para las Islas Baleares de las operaciones estadísticas estatales EGATUR y FRONTUR gestionadas por el INE (1 de marzo de 2021 a 15 d...\\n\\nOrganismo: Instituto de Estadística de las Illes Balears\\n\\nVer en Contratero: https://contratero.es/contracts/CONTR 2020/12113
URL:https://contratero.es/contracts/CONTR 2020/12113
STATUS:CONFIRMED
BEGIN:VALARM
TRIGGER:-P1D
ACTION:DISPLAY
DESCRIPTION:Recordatorio: Realización de los trabajos de
END:VALARM
END:VEVENT
END:VCALENDAR